BEGIN:VCALENDAR
VERSION:2.0
PRODID:-//Son-Bauló Kulturfinca - ECPv6.15.20//NONSGML v1.0//EN
CALSCALE:GREGORIAN
METHOD:PUBLISH
X-WR-CALNAME:Son-Bauló Kulturfinca
X-ORIGINAL-URL:https://son-baulo.de
X-WR-CALDESC:Veranstaltungen für Son-Bauló Kulturfinca
REFRESH-INTERVAL;VALUE=DURATION:PT1H
X-Robots-Tag:noindex
X-PUBLISHED-TTL:PT1H
BEGIN:VTIMEZONE
TZID:Europe/Berlin
BEGIN:DAYLIGHT
TZOFFSETFROM:+0100
TZOFFSETTO:+0200
TZNAME:CEST
DTSTART:20240331T010000
END:DAYLIGHT
BEGIN:STANDARD
TZOFFSETFROM:+0200
TZOFFSETTO:+0100
TZNAME:CET
DTSTART:20241027T010000
END:STANDARD
BEGIN:DAYLIGHT
TZOFFSETFROM:+0100
TZOFFSETTO:+0200
TZNAME:CEST
DTSTART:20250330T010000
END:DAYLIGHT
BEGIN:STANDARD
TZOFFSETFROM:+0200
TZOFFSETTO:+0100
TZNAME:CET
DTSTART:20251026T010000
END:STANDARD
BEGIN:DAYLIGHT
TZOFFSETFROM:+0100
TZOFFSETTO:+0200
TZNAME:CEST
DTSTART:20260329T010000
END:DAYLIGHT
BEGIN:STANDARD
TZOFFSETFROM:+0200
TZOFFSETTO:+0100
TZNAME:CET
DTSTART:20261025T010000
END:STANDARD
END:VTIMEZONE
BEGIN:VEVENT
DTSTART;TZID=Europe/Berlin:20250801T193000
DTEND;TZID=Europe/Berlin:20250801T220000
DTSTAMP:20260423T035109
CREATED:20250717T163932Z
LAST-MODIFIED:20250902T162946Z
UID:64281-1754076600-1754085600@son-baulo.de
SUMMARY:Sommer Komödie Peter Buchenau & Eva Sieger
DESCRIPTION:Sommer Komödie Peter Buchenau & Eva Sieger am Freitag\,01. August 2025 19:30 Uhr\nEva Sieger & Peter Buchenau – Interaktive Stand-up Comedy \nPeter Buchenau und Eva Sieger \nBeobachtungshumor aus der Sicht von Mann und Frau. Stand-up Comedy\, Satire\, Witz\, Gesang. Bereit mit Herz\, Charme und Leidenschaft schlagfertig mit dem Publikum zu interagieren. Einzigartig in Deutschland. \nEva und Peter sind feste Ensemblemitglieder in der Erfolgskomödie Männerschnupfen. Eva ist zudem international gefragtes Haute-Couture Model und Peter wurde mit dem Red Fox Award ausgezeichnet. \nSon Bauló – Programm: EVAluation – das ist nur der Anfang! \nBeide Komiker nehmen unterhaltsam\, teils sehr sarkastisch und ironisch die unterschiedlichen Sicht- und Verhaltensweisen zwischen Mann und Frau auf die Schippe und das schon seit der Steinzeit. Frauen sehen und fühlen manche Gegebenheiten halt anders als Männer. Um das zu verdeutlichen\, schlüpfen die Beiden in verschiedene Rollen\, sei es Höhlenmenschen\, Ehepaar und lassen Sie sich überraschen.\nAber wichtig\, die Evaluation hat erst gerade begonnen! \n18:30 Sommer-Menü 24\, – 19:30 Uhr Kabarett 24\,- \n  \nTeile diesen Beitrag 
URL:https://son-baulo.de/veranstaltung/sommer-komoedie-peter-buchenau-eva-sieger/
LOCATION:Son Bauló\, Cami de Son Bauló\, 1\, Lloret de Vistalegre\, Balearische Inseln\, 07518\, Spain
CATEGORIES:Kalender
ATTACH;FMTTYPE=image/png:https://son-baulo.de/wp-content/uploads/2019/09/Peter-Buchenau_Eva-Sieger.png
ORGANIZER;CN="Will Kauffmann":MAILTO:son-baulo@son-baulo.com
END:VEVENT
BEGIN:VEVENT
DTSTART;TZID=Europe/Berlin:20250816T200000
DTEND;TZID=Europe/Berlin:20250816T223000
DTSTAMP:20260423T035109
CREATED:20250717T165348Z
LAST-MODIFIED:20250902T162815Z
UID:64283-1755374400-1755383400@son-baulo.de
SUMMARY:Espectaculo Tablao Flamenco
DESCRIPTION:Espectaculo Tablao Flamenco Samstag\, 16. August 2025 um 20:00 Uhr\nSilvia „La chispa“ (Baile)\, Jose Llorach (Percusión)\, Guille Sans (Cante)\, Pequi\, Oscar (Palmas) jaleos \nSensationelle Gruppe Spaniens mit Tänzerin – Emotionen pur! Besser geht´s nicht!\nProgramación/Contratación: José Miguel Llorach Asociación Cultural Flamenco en Red Balear \n20:00 Uhr Flamenco-Show € 24 \,- ● im Anschluss WOK 2-Gänge € 20 \,- \nSilvia Fernandez \nJose Llorach \njaleos \nTeile diesen Beitrag 
URL:https://son-baulo.de/veranstaltung/espectaculo-tablao-flamenco/
LOCATION:Son Bauló\, Cami de Son Bauló\, 1\, Lloret de Vistalegre\, Balearische Inseln\, 07518\, Spain
CATEGORIES:Kalender,Konzert
ATTACH;FMTTYPE=image/png:https://son-baulo.de/wp-content/uploads/2024/12/Silvia-Fernandez-24.png
ORGANIZER;CN="Will Kauffmann":MAILTO:son-baulo@son-baulo.com
END:VEVENT
BEGIN:VEVENT
DTSTART;TZID=Europe/Berlin:20250830T193000
DTEND;TZID=Europe/Berlin:20250830T213000
DTSTAMP:20260423T035109
CREATED:20250717T165944Z
LAST-MODIFIED:20250731T160503Z
UID:64285-1756582200-1756589400@son-baulo.de
SUMMARY:Chopin und George Sand auf Mallorca
DESCRIPTION:Chopin und George Sand auf Mallorca Samstag\, 30. August 2025 um 19:30 Uhr\n24 Préludes – Günter Fleckenstein & Yunus Kaya \nGuenter Fleckenstein \nGünter Fleckenstein studierte Medizin\, Kunsttherapie\, Bildhauerei. Arbeitet heute als Körper-Psychotherapeut in einer psychosomatischen Klinik. Singt in mehreren Ensembles und Theater-Chören. Entwickelt und rezitiert literarisch anspruchsvolle Programme in Verbindung mit Musik. \nIn Son Baulo war er zuletzt mit „Platero y yo“ von Juan Ramón Jiménez zu hören. \nEr liest heute aus den Briefen\, die Chopin und George Sand im Winter 1838/39 auf Mallorca an ihre Freunde und Verleger in Paris schrieben; ein lebendiges Zeugnis dieser aufregenden Zeit. \n  \nYunus Kaya \nYunus Kaya *Hohenems/Österreich tritt in zahlreichen europäischen Ländern als Solist und Kammermusiker in den wichtigsten Orchestern der Welt auf. Salzburger Kammermusikfestival\, Bodenseefestival\, Chopin-Gesellschaft Vorarlberg\, Russisches Philharmonisches Kammerorchester. \n„Die klassikadie deutsche Musikzeitschrift „Fono Forum“ kürte seine CD in der Juli- Ausgabe zum „Stern des Monats“. Er spielt die 24 Préludes op. 28 von Frédéric Chopin\, die größtenteils auf Mallorca entstanden sind. \n19:30 Uhr 24.- In der Pause Sommer-Menü 24\,- Getränke sind nicht enthalten. Menüs auch vegetarisch\, bitte Avis. Kasse-Cash. Bitte immer anmelden.\n \n  \nTeile diesen Beitrag 
URL:https://son-baulo.de/veranstaltung/chopin-und-george-sand-auf-mallorca/
LOCATION:Son Bauló\, Cami de Son Bauló\, 1\, Lloret de Vistalegre\, Balearische Inseln\, 07518\, Spain
CATEGORIES:Kalender,Konzert,Lesung
ATTACH;FMTTYPE=image/png:https://son-baulo.de/wp-content/uploads/2025/06/Guenter-Fleckenstein.png
ORGANIZER;CN="Will Kauffmann":MAILTO:son-baulo@son-baulo.com
END:VEVENT
END:VCALENDAR