BEGIN:VCALENDAR
VERSION:2.0
PRODID:-//Son-Bauló Kulturfinca - ECPv6.15.20//NONSGML v1.0//EN
CALSCALE:GREGORIAN
METHOD:PUBLISH
X-ORIGINAL-URL:https://son-baulo.de
X-WR-CALDESC:Veranstaltungen für Son-Bauló Kulturfinca
REFRESH-INTERVAL;VALUE=DURATION:PT1H
X-Robots-Tag:noindex
X-PUBLISHED-TTL:PT1H
BEGIN:VTIMEZONE
TZID:Europe/Berlin
BEGIN:DAYLIGHT
TZOFFSETFROM:+0100
TZOFFSETTO:+0200
TZNAME:CEST
DTSTART:20240331T010000
END:DAYLIGHT
BEGIN:STANDARD
TZOFFSETFROM:+0200
TZOFFSETTO:+0100
TZNAME:CET
DTSTART:20241027T010000
END:STANDARD
BEGIN:DAYLIGHT
TZOFFSETFROM:+0100
TZOFFSETTO:+0200
TZNAME:CEST
DTSTART:20250330T010000
END:DAYLIGHT
BEGIN:STANDARD
TZOFFSETFROM:+0200
TZOFFSETTO:+0100
TZNAME:CET
DTSTART:20251026T010000
END:STANDARD
BEGIN:DAYLIGHT
TZOFFSETFROM:+0100
TZOFFSETTO:+0200
TZNAME:CEST
DTSTART:20260329T010000
END:DAYLIGHT
BEGIN:STANDARD
TZOFFSETFROM:+0200
TZOFFSETTO:+0100
TZNAME:CET
DTSTART:20261025T010000
END:STANDARD
END:VTIMEZONE
BEGIN:VEVENT
DTSTART;TZID=Europe/Berlin:20250905T190000
DTEND;TZID=Europe/Berlin:20250905T210000
DTSTAMP:20260423T023205
CREATED:20250731T151917Z
LAST-MODIFIED:20250731T152608Z
UID:64309-1757098800-1757106000@son-baulo.de
SUMMARY:Martin Semmelrogge
DESCRIPTION:Martin Semmelrogge 05.09.2025 um 19:00 Uhr\nLive in Son Bauló – Rock & Read mit rockiger Begleitung! \nWenn Schauspiel-Ikone Martin Semmelrogge seine Stimme wie ein wilder Gitarrenriff entfesselt bleibt kein Herz unberührt; mal brachial\, mal flüsterleise\, aber immer mit voller Power. Freut euch auf eine mitreißende Lesung mit starker\, rockiger Begleitung – lasst euch überraschen! \nExplosive Live-Lesung: große Geschichten\, intensiv interpretiert. Rockige Begleitung: kraftvoller Sound ohne Vorwarnung. Unvergleichliches Flair\, die einzigartige Atmosphäre der Kultur- Oase Son Bauló. \n🎟️ Tickets sichern: Nur limitiert verfügbar – direkt: E-Mail. \n19:00 Uhr Rock & Read € 26\,-. Anschließend 3-Gänge Menü 24\,- Getränke sind nicht enthalten. Menüs auch vegetarisch\, bitte Avis. Kasse-Cash. Bitte immer anmelden.\n \nDon’t miss out – let’s Rock & Read! 🎸 \n  \nTeile diesen Beitrag 
URL:https://son-baulo.de/veranstaltung/martin-semmelrogge/
LOCATION:Son Bauló\, Cami de Son Bauló\, 1\, Lloret de Vistalegre\, Balearische Inseln\, 07518\, Spain
CATEGORIES:Kalender,Konzert
ATTACH;FMTTYPE=image/png:https://son-baulo.de/wp-content/uploads/2025/07/Martin-Semmelrogge_25.png
ORGANIZER;CN="Will Kauffmann":MAILTO:son-baulo@son-baulo.com
END:VEVENT
BEGIN:VEVENT
DTSTART;TZID=Europe/Berlin:20250907T190000
DTEND;TZID=Europe/Berlin:20250907T210000
DTSTAMP:20260423T023205
CREATED:20250731T161621Z
LAST-MODIFIED:20250801T095224Z
UID:64329-1757271600-1757278800@son-baulo.de
SUMMARY:Colette Sternberg
DESCRIPTION:Colette Sternberg am 07.09.2025 um 19:00 Uhr\nChansons\, Love Songs und Duette \nColette Sternberg (Sporan)\, Yumiko Kuwahata (Mezzosopran) und Maria Danus (Klavier). \nMusikalische Kostbarkeiten von Caccini bis Cole Porter. \n19:00 Uhr Konzert € 24\,- | 18:00 Uhr 3-Gänge-Sommer-Menü € 24\,- Getränke sind nicht enthalten. Menüs auch vegetarisch\, bitte Avis. Kasse-Cash. Bitte immer anmelden. \nColette Sternberg \nYumiko Kuwahata \nMaria Danus \n  \n  \n  \n  \n  \n  \nTeile diesen Beitrag 
URL:https://son-baulo.de/veranstaltung/colette-sternberg/
LOCATION:Son Bauló\, Cami de Son Bauló\, 1\, Lloret de Vistalegre\, Balearische Inseln\, 07518\, Spain
CATEGORIES:Kalender,Konzert
ATTACH;FMTTYPE=image/png:https://son-baulo.de/wp-content/uploads/2025/03/Colette-Sternberg25.png
ORGANIZER;CN="Will Kauffmann":MAILTO:son-baulo@son-baulo.com
END:VEVENT
BEGIN:VEVENT
DTSTART;TZID=Europe/Berlin:20250917T190000
DTEND;TZID=Europe/Berlin:20250917T210000
DTSTAMP:20260423T023205
CREATED:20250731T153413Z
LAST-MODIFIED:20250731T153413Z
UID:64316-1758135600-1758142800@son-baulo.de
SUMMARY:Billy Crize
DESCRIPTION:Billy Crize \nEine Stimme die fesselt! Dunkel\, sinnlich\, sanft\, fordernd\, rebellisch \nBilly Crize startet als Straßenmusikerin\, wird Support-Act\, und es gelingt ihr auf Anhieb\, nicht zuletzt wegen ihrer einzigartigen Bühnenpräsenz\, das Publikum zu begeistern. \nDas zweite Album „Now“ der Berliner Künstlerin ist erneut das Ergebnis einer Zusammenarbeit mit dem Produzenten und Gitarristen Wolfgang Scheele. Billys atmosphärischen Gesang begleitet er virtuos mit einer Akustik Gitarre. \nEin ganz besonderes\, beeindruckendes Musik-Erlebnis. \n19:00 Uhr Konzert € 24\,- | 18:00 Uhr WOK-Menü € 24\,- Getränke sind nicht enthalten. Menüs auch vegetarisch\, bitte Avis. Kasse-Cash. Bitte immer anmelden. \nTeile diesen Beitrag 
URL:https://son-baulo.de/veranstaltung/billy-crize/
LOCATION:Son Bauló\, Cami de Son Bauló\, 1\, Lloret de Vistalegre\, Balearische Inseln\, 07518\, Spain
CATEGORIES:Kalender,Konzert
ATTACH;FMTTYPE=image/png:https://son-baulo.de/wp-content/uploads/2024/12/Billy-Crize.png
ORGANIZER;CN="Will Kauffmann":MAILTO:son-baulo@son-baulo.com
END:VEVENT
BEGIN:VEVENT
DTSTART;TZID=Europe/Berlin:20250918T190000
DTEND;TZID=Europe/Berlin:20250918T210000
DTSTAMP:20260423T023205
CREATED:20250719T075759Z
LAST-MODIFIED:20250927T092724Z
UID:64306-1758222000-1758229200@son-baulo.de
SUMMARY:Autoren Salon Son Bauló
DESCRIPTION:Donnerstag\, 18. September 2025 – 19:00 Uhr Autoren Salon Son Bauló\nEin Literaturabend. Wir handeln interessante Themen; lesen\, schreiben\, diskutieren. \nThriller-Autor Christian Langer\nLanger vermittelt Inhalte aus seinem Schreibratgeber\, welcher dann in einem 2-Tages-Workshop vollständig angeboten wird. \nDie Themen: Figurenentwicklung\, Handlungsstrang\, kreatives Schreiben\, KI für Autoren\, Professionelle Vermarktung / Selfpublishing und mehr… \nTeilnahme kostenlos. Gäste willkommen. 19:00 Uhr Moderation des Themas. Anschließend Wok € 12\,- \nTeile diesen Beitrag 
URL:https://son-baulo.de/veranstaltung/autoren-salon-son-baulo-2/
LOCATION:Son Bauló\, Cami de Son Bauló\, 1\, Lloret de Vistalegre\, Balearische Inseln\, 07518\, Spain
CATEGORIES:Autoren Salon,Kalender
ATTACH;FMTTYPE=image/jpeg:https://son-baulo.de/wp-content/uploads/2022/02/Gruendungsmitglieder_AutorenSalon.jpg
ORGANIZER;CN="Will Kauffmann":MAILTO:son-baulo@son-baulo.com
END:VEVENT
BEGIN:VEVENT
DTSTART;VALUE=DATE:20250920
DTEND;VALUE=DATE:20251121
DTSTAMP:20260423T023205
CREATED:20251006T095837Z
LAST-MODIFIED:20251015T100252Z
UID:64415-1758326400-1763683199@son-baulo.de
SUMMARY:MoldArt - Augenblick in Zeit und Raum
DESCRIPTION:MoldArt – Augenblick in Zeit und Raum\nAusstellung ab 20.09. bis 20.11.2025\nHeinz Moldt (1961 Frankfurt am Main) Fotografie- und Grafikdesignstudium\, freier Illustrator\, weltweit für Fotorealismus vom Art Directors Club ausgezeichnet. Seine Arbeiten mit abstrakter Malerei wurden in den 80er und 90er Jahren des 20. Jahrhunderts u.a. in Frankfurt am Main\, Hamburg\, Sevilla und im Museum of Modern Arts in New York ausgestellt. Atelier in Berlin: das Werk „Lenné“ am Potsdamer Platz. \nFür die „World Childhood Foundation“ von Königin Silvia von Schweden wurde im Rahmen eines Charity-Projektes ein Kunstwerk auf Schloss Bühlerhöhe versteigert. \nSeine Förderer u.a.: Unternehmen wie Morgan Stanley\, die Deutsche Bank und die hochbegabten Karg´sche Familienstiftung. Sein Werk wird durch das Gegensätzliche bestimmt. Für Moldt sind Chaos und Ordnung isoliert betrachtet uninteressant. \nHomepage | Instagram  (@moldtheinz) \nTeile diesen Beitrag 
URL:https://son-baulo.de/veranstaltung/moldart-augenblick-in-zeit-und-raum/
LOCATION:Son Bauló\, Cami de Son Bauló\, 1\, Lloret de Vistalegre\, Balearische Inseln\, 07518\, Spain
CATEGORIES:Ausstellung,Kalender
ATTACH;FMTTYPE=image/gif:https://son-baulo.de/wp-content/uploads/2025/10/Schoepfung-2015.gif
ORGANIZER;CN="Will Kauffmann":MAILTO:son-baulo@son-baulo.com
END:VEVENT
BEGIN:VEVENT
DTSTART;TZID=Europe/Berlin:20250924T193000
DTEND;TZID=Europe/Berlin:20250924T213000
DTSTAMP:20260423T023205
CREATED:20250731T154627Z
LAST-MODIFIED:20250927T092428Z
UID:64318-1758742200-1758749400@son-baulo.de
SUMMARY:redSHOESred in concert
DESCRIPTION:redSHOESred in concert am 24.09.2025 um 19:30 Uhr\nVerzeihung: ich bedaure sehr\, der Künstler „red shoes“ fällt mit Verletzung morgen 24.09.2025 aus.\nTraurig aber wahr. ☹ \nFlügelschläge\nMISTER RED SHOES \n“Das Klavier verbindet Jerry Lee Lewis mit Ludwig van Beethoven –\ndas Schlagzeug ist pure Lebensfreude an der Musik!“ \nMISTER RED SHOES (K.F Debusmann) ist der Mann\, welcher mit 88 Tasten zwei musikalische Welten verbinden kann. \nNancho Campos \nNANCHO CAMPOS – umtriebiges Kraftpaket am Schlagzeug\, spontan und ideal für ein Jerry Lee Lewis Tributes Konzert. \nDas Piano – Drums Spektakel exklusiv in der Kulturfinca SON BAULÓ!“ \n19:30 Uhr Konzert € 24\,- | Anschließend 3-Gänge-Menü € 24\,- Getränke sind nicht enthalten. Menüs auch vegetarisch\, bitte Avis. Kasse-Cash. Bitte immer anmelden.  \n  \nTeile diesen Beitrag 
URL:https://son-baulo.de/veranstaltung/redshoesred-in-concert/
LOCATION:Son Bauló\, Cami de Son Bauló\, 1\, Lloret de Vistalegre\, Balearische Inseln\, 07518\, Spain
CATEGORIES:Kalender,Konzert
ATTACH;FMTTYPE=image/png:https://son-baulo.de/wp-content/uploads/2024/02/ROCK-OVER-BEATHOVEN.png
ORGANIZER;CN="Will Kauffmann":MAILTO:son-baulo@son-baulo.com
END:VEVENT
BEGIN:VEVENT
DTSTART;TZID=Europe/Berlin:20250927T193000
DTEND;TZID=Europe/Berlin:20250927T213000
DTSTAMP:20260423T023205
CREATED:20250731T155515Z
LAST-MODIFIED:20250731T155529Z
UID:64320-1759001400-1759008600@son-baulo.de
SUMMARY:Und der Mond hatte frei
DESCRIPTION:Und der Mond hatte frei 27.09.2025 um 19:30 Uhr\n100 Jahre Hildegard Knef \nDas Berliner Duo „Die Raven & Der Augustin“ bringen mit ihrem Programm „Und der Mond hatte frei“ eine unterhaltsame und intelligente Hommage an die große Künstlerin und Diva Hildegard Knef auf die Bühne. Eine Würdigung dieses Ausnahmetalents und ihres Lebenswerkes\, das in diesem Jahr seinen 100. Geburtstag feiern würde. \nDie Knef war als Filmschauspielerin\, Bühnenstar\, als Autorin sowie als Chansonsängerin sehr erfolgreich.\nAber auch vielzählige Niederlagen musste sie einstecken und sich Widerständen und großer Ablehnung widersetzen–was ihr immer wieder gelang. Mit Stimme und Klavier bringen Die Raven & Der Augustin in einem dichtgewobenen Dialog bekannte und weniger bekannte Chansons der Knef wie auch Aufregendes und Nachdenkliches aus den Höhe-und Tiefpunkten ihres Lebens zum Klingen. \n19:30 Uhr Konzert € 24\,- | Anschließend 3-Gänge-Menü € 24\,- Getränke sind nicht enthalten. Menüs auch vegetarisch\, bitte Avis. Kasse-Cash. Bitte immer anmelden. \nTeile diesen Beitrag 
URL:https://son-baulo.de/veranstaltung/und-der-mond-hatte-frei/
LOCATION:Son Bauló\, Cami de Son Bauló\, 1\, Lloret de Vistalegre\, Balearische Inseln\, 07518\, Spain
CATEGORIES:Kalender,Konzert
ATTACH;FMTTYPE=image/png:https://son-baulo.de/wp-content/uploads/2025/07/Die-Raven.png
ORGANIZER;CN="Will Kauffmann":MAILTO:son-baulo@son-baulo.com
END:VEVENT
END:VCALENDAR