BEGIN:VCALENDAR
VERSION:2.0
PRODID:-//Son-Bauló Kulturfinca - ECPv6.15.20//NONSGML v1.0//EN
CALSCALE:GREGORIAN
METHOD:PUBLISH
X-ORIGINAL-URL:https://son-baulo.de
X-WR-CALDESC:Veranstaltungen für Son-Bauló Kulturfinca
REFRESH-INTERVAL;VALUE=DURATION:PT1H
X-Robots-Tag:noindex
X-PUBLISHED-TTL:PT1H
BEGIN:VTIMEZONE
TZID:Europe/Berlin
BEGIN:DAYLIGHT
TZOFFSETFROM:+0100
TZOFFSETTO:+0200
TZNAME:CEST
DTSTART:20250330T010000
END:DAYLIGHT
BEGIN:STANDARD
TZOFFSETFROM:+0200
TZOFFSETTO:+0100
TZNAME:CET
DTSTART:20251026T010000
END:STANDARD
BEGIN:DAYLIGHT
TZOFFSETFROM:+0100
TZOFFSETTO:+0200
TZNAME:CEST
DTSTART:20260329T010000
END:DAYLIGHT
BEGIN:STANDARD
TZOFFSETFROM:+0200
TZOFFSETTO:+0100
TZNAME:CET
DTSTART:20261025T010000
END:STANDARD
BEGIN:DAYLIGHT
TZOFFSETFROM:+0100
TZOFFSETTO:+0200
TZNAME:CEST
DTSTART:20270328T010000
END:DAYLIGHT
BEGIN:STANDARD
TZOFFSETFROM:+0200
TZOFFSETTO:+0100
TZNAME:CET
DTSTART:20271031T010000
END:STANDARD
END:VTIMEZONE
BEGIN:VEVENT
DTSTART;TZID=Europe/Berlin:20260307T160000
DTEND;TZID=Europe/Berlin:20260307T173000
DTSTAMP:20260422T182632
CREATED:20260220T102859Z
LAST-MODIFIED:20260220T110842Z
UID:64650-1772899200-1772904600@son-baulo.de
SUMMARY:ILONA LUDWIG
DESCRIPTION:ILONA LUDWIG\nSamstag 07. März 2026 – 16:00 Uhr – ILONA LUDWIG and the Soulful Three Ballads & More  \nIlona Ludwig \nIlona Ludwig präsentiert am 07. März 2026 mit ihrer ausdrucksstarken Stimme ein Programm aus eigenen Versionen von eher ruhigen Pop\, Rock und Soul Klassikern\, gemixt mit ein paar up-tempo Songs. \nCoverversionen z.B. Stevie Wonder\, Coldplay\, Van Morrison\, Prince\, Bob Dylan oder Sting. \nBegleitet von den SOULFUL THREE: Ihrem Ehemann\, dem Pianisten Stefan Mühlhaus\, Sohn Linus am Schlagzeug und einem ganz besonderen Gast\, dem italienischen Gitarristen Ezio Ciulla. \nStefan Muehlhaus \nStefan Mühlhaus\, Pianist und Keyboarder\, weltweite Tourneen u.a. mit dem Goethe-Institut. Seit vielen Jahren ist er mitverantwortlich für die Bühnenprogramme und Album-Produktionen von Ilona Ludwig. \nLinus Muehlhaus \nLinus Mühlhaus aus der familieneigenen Kleinkunstbühne. Inspiriert von seinem Bruder widmete er sich in jungen Jahren dem Schlagzeug\, das er seitdem mit viel Liebe und Enthusiasmus bearbeitet. \nEzio Ciulla \nEzio Ciulla spielte seiner Heimat Italien in zahlreichen Bands als Rock-\, Pop- und Bluesgitarrist. Sein großer europäischer Name\, u.a. in den Niederlanden\, führte ihn nun nach Mallorca. \n  \n16:00 Uhr Konzert € 25\,- | Im Anschluss\, Menü € 25\,- Getränke sind nicht enthalten. Menüs auch vegetarisch\, bitte Avis. Kasse-Cash. Bitte immer anmelden. \nTeile diesen Beitrag 
URL:https://son-baulo.de/veranstaltung/ilona-ludwig/
LOCATION:Son Bauló\, Cami de Son Bauló\, 1\, Lloret de Vistalegre\, Balearische Inseln\, 07518\, Spain
CATEGORIES:Kalender,Konzert
ATTACH;FMTTYPE=image/png:https://son-baulo.de/wp-content/uploads/2026/02/Ilona-Ludwig.png
ORGANIZER;CN="Will Kauffmann":MAILTO:son-baulo@son-baulo.com
END:VEVENT
BEGIN:VEVENT
DTSTART;TZID=Europe/Berlin:20260319T190000
DTEND;TZID=Europe/Berlin:20260319T203000
DTSTAMP:20260422T182632
CREATED:20260220T111641Z
LAST-MODIFIED:20260220T111641Z
UID:64670-1773946800-1773952200@son-baulo.de
SUMMARY:Autoren Salon Son Bauló 19.03.
DESCRIPTION:Autoren Salon Son Bauló\nDonnerstag 19. März 2026 – 19:00 Uhr  \nEin Literaturabend. Wir handeln interessante Themen; lesen\, schreiben\, diskutieren. \nThriller-Autor\, Dozent\, Lektor Christian Langer. Langer gibt einen Vorgeschmack auf seine Schreibworkshops. Er erklärt\, wie man spannende Handlungsstränge entwickelt\, wie man tiefe Charakter erschafft und er spricht über kreatives Schreiben. \n19:00 Uhr. Dieser Abend ist kostenlos. Gäste sind willkommen. Anschließend Wok € 12\,-  \n\nWORKSHOP\nA: Sa 28. & So 29.03.2026 und B: Sa 11. & So 12.04.2026 \nEin Workshop der besonderen Art. In zwei Tagen vermittelt Christian Langer alles Wissenswerte\, um ein handwerklich solides Buch zu schreiben. Der Autor\, Dozent und Lektor erklärt chronologisch den gesamten Ablauf des Schreibprozesses. Er referiert zum Beispiel über Handlungsstrang / Figurenentwicklung / Dialoge / Kreatives Schreiben\nRückblende & Infodump / Schreiben mit KI / Veröffentlichung über einen Verlag oder als Selfpublisher / Die eigene Lesung. \nAlle Infos und Anmeldung direkt von Christian Langer | E-Mail – Homepage  \n  \nTeile diesen Beitrag 
URL:https://son-baulo.de/veranstaltung/autoren-salon-son-baulo-19-03/
LOCATION:Son Bauló\, Cami de Son Bauló\, 1\, Lloret de Vistalegre\, Balearische Inseln\, 07518\, Spain
CATEGORIES:Autoren Salon,Kalender
ATTACH;FMTTYPE=image/png:https://son-baulo.de/wp-content/uploads/2026/02/Christian-Langer_n.png
ORGANIZER;CN="Will Kauffmann":MAILTO:son-baulo@son-baulo.com
END:VEVENT
BEGIN:VEVENT
DTSTART;TZID=Europe/Berlin:20260321T193000
DTEND;TZID=Europe/Berlin:20260321T203000
DTSTAMP:20260422T182632
CREATED:20260220T112607Z
LAST-MODIFIED:20260220T112633Z
UID:64672-1774121400-1774125000@son-baulo.de
SUMMARY:JAZZ MEETS FUSION
DESCRIPTION:JAZZ MEETS FUSION\nSamstag 21. März 2026 – 19:30 Uhr (18:00 Uhr Menü)  \nLet the music touch your soul. Von internationalen Musikern Jazzrock Fusion Band. Die Band hat sich auf der spanischen Insel Mallorca gegründet. \nGroovige Rhythmen mit tollen Interpretationen bekannter Jazz/ Fusion Klassiker\, welche jedes Herz bewegen. 😊 Mit Songs von Marcus Miller\, Michael Brecker\, Freddy Hubbard\, Chick Corea\, Stanley Clarke uva. \nJazzconFusion are:\nRoger Machon (Germany/ Mallorca) Sax\nReynaldo Angeles (Philippines) Keys\nHardy Best (Germany) Bass\nAlexander Friedrich (Swiss/Germany) Drums \n19:30 Uhr Konzert € 25\,- | 18:00 Uhr Menü € 25\,- Getränke sind nicht enthalten. Menüs auch vegetarisch\, bitte Avis. Kasse-Cash. Bitte immer anmelden.  \n \n  \nTeile diesen Beitrag 
URL:https://son-baulo.de/veranstaltung/jazz-meets-fusion-2/
LOCATION:Son Bauló\, Cami de Son Bauló\, 1\, Lloret de Vistalegre\, Balearische Inseln\, 07518\, Spain
CATEGORIES:Kalender,Konzert
ATTACH;FMTTYPE=image/jpeg:https://son-baulo.de/wp-content/uploads/2025/09/JazzconFusion.jpg
ORGANIZER;CN="Will Kauffmann":MAILTO:son-baulo@son-baulo.com
END:VEVENT
BEGIN:VEVENT
DTSTART;TZID=Europe/Berlin:20260329T130000
DTEND;TZID=Europe/Berlin:20260329T143000
DTSTAMP:20260422T182632
CREATED:20260220T113449Z
LAST-MODIFIED:20260220T113449Z
UID:64674-1774789200-1774794600@son-baulo.de
SUMMARY:HANS THEESSINK
DESCRIPTION:HANS THEESSINK\nMatinee Sonntag 29.03.2026 – 13:00 Uhr (11:00 Uhr Brunch) \n„Der Blues-Meister Solo – Eine Gitarre – Eine Stimme“ HANS THEESSINK – Eine Institution. Über 8000 Konzerte und 50 Jahre „on the road“ in Sachen Rootsmusik. Gefühlvolle Interpretationen des solo acoustic Blues sind sein Markenzeichen und mit seiner sonoren Stimme und seinem unverkennbarem Gitarrenstil ist der Niederländer und Wahlwiener weltweit gefragt. \nDie US-Presse nannte den zweifachen Amadeus-Gewinner und Träger des Goldenen Verdienstzeichens des Landes Wien\, „einen internationalen Bluesschatz„\, und der legendäre Bo Diddley meinte: „Ein höllisch guter Gitarrist„. Mehr als 30 Alben. Das aktuelle Album 75 Birthday Bash CD/Vinyl (VÖ 2025): wurde live in Wien bei Hans‘ 75.Geburtstagsfeier aufgenommen. Eine unvergessliche Nacht voller Spaß und Musik mit musikalischen Freunden. \n2025 war für mich als Songwriter ein interessantes Jahr: Charley Pride veröffentlichte posthum meinen Song „Ready For The Ride“\, und der ehemalige Rolling Stone Bill Wyman nahm zwei meiner Songs\, „Storm Warning“ und „Wings“\, für sein neues Album „Ride My Car“ auf. Hier ist Charley Prides Version von „Ready For The Ride“: \nPlatten-Pläne für 2026: limitiertes analoges Vinyl-Album „Analog Retrospective“. Siehe YouTube  \nMit Revox und Horchhouse: „one step vinyl“\, eine UHQCD\, Tonband und Kassette einer intimen Analogaufnahme; Wien September 2017 mit Terry Evans bei Supersense. Beide Projekte werden auf der High End (Europas größter Hi-Fi-Messe) am 4.\, 5. und 6. Juni 2026 in Wien präsentiert. \n11:00 Uhr Brunch € 25\,- | 13:00 Uhr Konzert € 25\,- Getränke sind nicht enthalten. Menüs auch vegetarisch\, bitte Avis. Kasse-Cash. Bitte immer anmelden. \nTeile diesen Beitrag 
URL:https://son-baulo.de/veranstaltung/hans-theessink/
LOCATION:Son Bauló\, Cami de Son Bauló\, 1\, Lloret de Vistalegre\, Balearische Inseln\, 07518\, Spain
CATEGORIES:Kalender,Konzert
ATTACH;FMTTYPE=image/png:https://son-baulo.de/wp-content/uploads/2026/02/Hans-Theessink-2026.png
ORGANIZER;CN="Will Kauffmann":MAILTO:son-baulo@son-baulo.com
END:VEVENT
END:VCALENDAR