BEGIN:VCALENDAR
VERSION:2.0
PRODID:-//Son-Bauló Kulturfinca - ECPv6.15.20//NONSGML v1.0//EN
CALSCALE:GREGORIAN
METHOD:PUBLISH
X-ORIGINAL-URL:https://son-baulo.de
X-WR-CALDESC:Veranstaltungen für Son-Bauló Kulturfinca
REFRESH-INTERVAL;VALUE=DURATION:PT1H
X-Robots-Tag:noindex
X-PUBLISHED-TTL:PT1H
BEGIN:VTIMEZONE
TZID:Europe/Berlin
BEGIN:DAYLIGHT
TZOFFSETFROM:+0100
TZOFFSETTO:+0200
TZNAME:CEST
DTSTART:20250330T010000
END:DAYLIGHT
BEGIN:STANDARD
TZOFFSETFROM:+0200
TZOFFSETTO:+0100
TZNAME:CET
DTSTART:20251026T010000
END:STANDARD
BEGIN:DAYLIGHT
TZOFFSETFROM:+0100
TZOFFSETTO:+0200
TZNAME:CEST
DTSTART:20260329T010000
END:DAYLIGHT
BEGIN:STANDARD
TZOFFSETFROM:+0200
TZOFFSETTO:+0100
TZNAME:CET
DTSTART:20261025T010000
END:STANDARD
BEGIN:DAYLIGHT
TZOFFSETFROM:+0100
TZOFFSETTO:+0200
TZNAME:CEST
DTSTART:20270328T010000
END:DAYLIGHT
BEGIN:STANDARD
TZOFFSETFROM:+0200
TZOFFSETTO:+0100
TZNAME:CET
DTSTART:20271031T010000
END:STANDARD
END:VTIMEZONE
BEGIN:VEVENT
DTSTART;TZID=Europe/Berlin:20260507T190000
DTEND;TZID=Europe/Berlin:20260507T203000
DTSTAMP:20260422T192054
CREATED:20260422T092009Z
LAST-MODIFIED:20260422T092009Z
UID:64877-1778180400-1778185800@son-baulo.de
SUMMARY:Abschluss-Konzert
DESCRIPTION:Abschluss-Konzert\nDonnerstag\, 07.Mai 2026 – 19:00 Uhr  \n19:00 Uhr Konzert € 25\,- Jeweils mit Menü € 25\,- buchbar. Nur mit Anmeldungen.  \nTeile diesen Beitrag 
URL:https://son-baulo.de/veranstaltung/abschluss-konzert/
LOCATION:Son Bauló\, Cami de Son Bauló\, 1\, Lloret de Vistalegre\, Balearische Inseln\, 07518\, Spain
CATEGORIES:Kalender,Konzert
ATTACH;FMTTYPE=image/jpeg:https://son-baulo.de/wp-content/uploads/2018/05/cropped-Finca-Hotel-Son-Baulo.jpg
ORGANIZER;CN="Will Kauffmann":MAILTO:son-baulo@son-baulo.com
END:VEVENT
BEGIN:VEVENT
DTSTART;TZID=Europe/Berlin:20260514T190000
DTEND;TZID=Europe/Berlin:20260514T203000
DTSTAMP:20260422T192054
CREATED:20260422T092901Z
LAST-MODIFIED:20260422T092901Z
UID:64881-1778785200-1778790600@son-baulo.de
SUMMARY:Abschluss-Konzert
DESCRIPTION:Abschluss-Konzert\nDonnerstag\, 14.Mai 2026 – 19:00 Uhr Abschluss-Konzert \n19:00 Uhr Konzert € 25\,- Jeweils mit Menü € 25\,- buchbar. Nur mit Anmeldungen.  \nTeile diesen Beitrag 
URL:https://son-baulo.de/veranstaltung/abschluss-konzert-2/
LOCATION:Son Bauló\, Cami de Son Bauló\, 1\, Lloret de Vistalegre\, Balearische Inseln\, 07518\, Spain
CATEGORIES:Kalender,Konzert
ATTACH;FMTTYPE=image/jpeg:https://son-baulo.de/wp-content/uploads/2018/05/cropped-Finca-Hotel-Son-Baulo.jpg
ORGANIZER;CN="Will Kauffmann":MAILTO:son-baulo@son-baulo.com
END:VEVENT
END:VCALENDAR