BEGIN:VCALENDAR
VERSION:2.0
PRODID:-//Son-Bauló Kulturfinca - ECPv6.15.20//NONSGML v1.0//EN
CALSCALE:GREGORIAN
METHOD:PUBLISH
X-WR-CALNAME:Son-Bauló Kulturfinca
X-ORIGINAL-URL:https://son-baulo.de
X-WR-CALDESC:Veranstaltungen für Son-Bauló Kulturfinca
REFRESH-INTERVAL;VALUE=DURATION:PT1H
X-Robots-Tag:noindex
X-PUBLISHED-TTL:PT1H
BEGIN:VTIMEZONE
TZID:Europe/Berlin
BEGIN:DAYLIGHT
TZOFFSETFROM:+0100
TZOFFSETTO:+0200
TZNAME:CEST
DTSTART:20240331T010000
END:DAYLIGHT
BEGIN:STANDARD
TZOFFSETFROM:+0200
TZOFFSETTO:+0100
TZNAME:CET
DTSTART:20241027T010000
END:STANDARD
BEGIN:DAYLIGHT
TZOFFSETFROM:+0100
TZOFFSETTO:+0200
TZNAME:CEST
DTSTART:20250330T010000
END:DAYLIGHT
BEGIN:STANDARD
TZOFFSETFROM:+0200
TZOFFSETTO:+0100
TZNAME:CET
DTSTART:20251026T010000
END:STANDARD
BEGIN:DAYLIGHT
TZOFFSETFROM:+0100
TZOFFSETTO:+0200
TZNAME:CEST
DTSTART:20260329T010000
END:DAYLIGHT
BEGIN:STANDARD
TZOFFSETFROM:+0200
TZOFFSETTO:+0100
TZNAME:CET
DTSTART:20261025T010000
END:STANDARD
END:VTIMEZONE
BEGIN:VEVENT
DTSTART;TZID=Europe/Berlin:20251120T190000
DTEND;TZID=Europe/Berlin:20251120T220000
DTSTAMP:20260423T024221
CREATED:20251015T093538Z
LAST-MODIFIED:20251015T093538Z
UID:64443-1763665200-1763676000@son-baulo.de
SUMMARY:Autoren Salon Son Bauló
DESCRIPTION:Autoren Salon Son Bauló\nDonnerstag\, 20.11.2025 um 19:00 Uhr Video-Lesung – Christian Sünderwald (Autor) und Martin Schmitt (Piano). \nEin Abend voller Musik und dunkler Geheimnisse unserer Vergangenheit  \nChristian Sünderwald \nErfolgsautor Christian Sünderwald verrät zu seinem aktuellen Thriller „Die Spur der Ratten“ exklusiv an diesem Abend die Geschichten hinter der Geschichte.  \nEin spannender Video-Vortrag aus seinen umfangreichen Recherchen über die dunklen Geheimnisse unserer Geschichte werden stimmungsvoll begleitet von Martin Schmitt live am Klavier (Musiker und Produzent – Zusammenarbeit u. a. mit Andreas Gabalier\, Luna\, Razorlight). \nChristian Sünderwald (Jg. 1968)\, München/Luxemburg\, ab 1991 Chemnitz*\, seit 2024 tw. auf Mallorca. Zahlreiche Essays\, Aphorismen und verschiedene textreiche Fotobände. 2025 erschien sein Romandebüt\, der Thriller „Die Spur der Ratten“. \nMartin Schmitt \nMartin Schmitt (Jg. 1986) Musiker und Produzent. Studienaufenthalte USA (Arizona State University\, James Madison University). Masterclasses\, Bühnenprojekte. \nBekannt wurde er durch das Konzertformat „Schmitt singt Jürgens-  Die Udo Show“: Laeiszhalle Hamburg\, Jahrhunderthalle Frankfurt\, Wiener Stadthalle. Produktionen „Turner meets Cocker – The Story of Tina & Joe“\, „Lichterklang – Konzerte im Kerzenschein“ \nGroße Sinfonische Open-Airs. belegen seine Vielseitigkeit. Aktuell: FLAME – Die Kindersinfonie. \n19:00 Uhr | Teilnahme frei. Gäste willkommen. Pausen-WOK € 12\,- \n  \nTeile diesen Beitrag 
URL:https://son-baulo.de/veranstaltung/autoren-salon-son-baulo-4/
LOCATION:Son Bauló\, Cami de Son Bauló\, 1\, Lloret de Vistalegre\, Balearische Inseln\, 07518\, Spain
CATEGORIES:Autoren Salon,Kalender
ATTACH;FMTTYPE=image/png:https://son-baulo.de/wp-content/uploads/2025/10/Christian-Suenderwald.png
ORGANIZER;CN="Will Kauffmann":MAILTO:son-baulo@son-baulo.com
END:VEVENT
END:VCALENDAR