BEGIN:VCALENDAR
VERSION:2.0
PRODID:-//Son-Bauló Kulturfinca - ECPv6.15.20//NONSGML v1.0//EN
CALSCALE:GREGORIAN
METHOD:PUBLISH
X-WR-CALNAME:Son-Bauló Kulturfinca
X-ORIGINAL-URL:https://son-baulo.de
X-WR-CALDESC:Veranstaltungen für Son-Bauló Kulturfinca
REFRESH-INTERVAL;VALUE=DURATION:PT1H
X-Robots-Tag:noindex
X-PUBLISHED-TTL:PT1H
BEGIN:VTIMEZONE
TZID:Europe/Berlin
BEGIN:DAYLIGHT
TZOFFSETFROM:+0100
TZOFFSETTO:+0200
TZNAME:CEST
DTSTART:20240331T010000
END:DAYLIGHT
BEGIN:STANDARD
TZOFFSETFROM:+0200
TZOFFSETTO:+0100
TZNAME:CET
DTSTART:20241027T010000
END:STANDARD
BEGIN:DAYLIGHT
TZOFFSETFROM:+0100
TZOFFSETTO:+0200
TZNAME:CEST
DTSTART:20250330T010000
END:DAYLIGHT
BEGIN:STANDARD
TZOFFSETFROM:+0200
TZOFFSETTO:+0100
TZNAME:CET
DTSTART:20251026T010000
END:STANDARD
BEGIN:DAYLIGHT
TZOFFSETFROM:+0100
TZOFFSETTO:+0200
TZNAME:CEST
DTSTART:20260329T010000
END:DAYLIGHT
BEGIN:STANDARD
TZOFFSETFROM:+0200
TZOFFSETTO:+0100
TZNAME:CET
DTSTART:20261025T010000
END:STANDARD
END:VTIMEZONE
BEGIN:VEVENT
DTSTART;TZID=Europe/Berlin:20250702T190000
DTEND;TZID=Europe/Berlin:20250702T210000
DTSTAMP:20260421T125233
CREATED:20250717T151638Z
LAST-MODIFIED:20250902T163305Z
UID:64249-1751482800-1751490000@son-baulo.de
SUMMARY:Guy Davis „Botschafter des Blues“
DESCRIPTION:Guy Davis „Botschafter des Blues“\nGuy Davis\, der „Botschafter des Blues“\, zweimal für den Grammy nominiert und Träger des „Keeping the Blues Alive Award“ der Blues Foundation. Nominiert für wei Dutzend Mal Blues Music Award als bester Akustik-Blues-Künstler. Broadway-Komponist Bühnenmusik. \nNeuestes Album: „The Legend of Sugarbelly“\, der Nachfolger von „Be Ready When I Call You“\, Grammy: „Sonny & Brownie’s Last Train – Ein Rückblick auf Brownie McGhee and Sonny Terry“. Guy hat 15 Alben und dutzende Tributalben produziert. Bedeutende Erfolge als Broadway-Schauspieler\, Autor\, Musiklehrer\, Kinderdarsteller\, Americana-Blues-Künstler. \n18:00 Uhr Wok € 22\,- | 19:00 Uhr Konzert € 24\,- Getränke sind nicht enthalten. Menüs auch vegetarisch\, bitte Avis. Kasse-Cash. Bitte immer anmelden.  \nTeile diesen Beitrag 
URL:https://son-baulo.de/veranstaltung/guy-davis-botschafter-des-blues/
LOCATION:Son Bauló\, Cami de Son Bauló\, 1\, Lloret de Vistalegre\, Balearische Inseln\, 07518\, Spain
CATEGORIES:Kalender,Konzert
ATTACH;FMTTYPE=image/png:https://son-baulo.de/wp-content/uploads/2025/05/Guy-Davis.png
ORGANIZER;CN="Will Kauffmann":MAILTO:son-baulo@son-baulo.com
END:VEVENT
END:VCALENDAR