BEGIN:VCALENDAR
VERSION:2.0
PRODID:-//Son-Bauló Kulturfinca - ECPv6.15.20//NONSGML v1.0//EN
CALSCALE:GREGORIAN
METHOD:PUBLISH
X-WR-CALNAME:Son-Bauló Kulturfinca
X-ORIGINAL-URL:https://son-baulo.de
X-WR-CALDESC:Veranstaltungen für Son-Bauló Kulturfinca
REFRESH-INTERVAL;VALUE=DURATION:PT1H
X-Robots-Tag:noindex
X-PUBLISHED-TTL:PT1H
BEGIN:VTIMEZONE
TZID:Europe/Berlin
BEGIN:DAYLIGHT
TZOFFSETFROM:+0100
TZOFFSETTO:+0200
TZNAME:CEST
DTSTART:20240331T010000
END:DAYLIGHT
BEGIN:STANDARD
TZOFFSETFROM:+0200
TZOFFSETTO:+0100
TZNAME:CET
DTSTART:20241027T010000
END:STANDARD
BEGIN:DAYLIGHT
TZOFFSETFROM:+0100
TZOFFSETTO:+0200
TZNAME:CEST
DTSTART:20250330T010000
END:DAYLIGHT
BEGIN:STANDARD
TZOFFSETFROM:+0200
TZOFFSETTO:+0100
TZNAME:CET
DTSTART:20251026T010000
END:STANDARD
BEGIN:DAYLIGHT
TZOFFSETFROM:+0100
TZOFFSETTO:+0200
TZNAME:CEST
DTSTART:20260329T010000
END:DAYLIGHT
BEGIN:STANDARD
TZOFFSETFROM:+0200
TZOFFSETTO:+0100
TZNAME:CET
DTSTART:20261025T010000
END:STANDARD
END:VTIMEZONE
BEGIN:VEVENT
DTSTART;TZID=Europe/Berlin:20250816T200000
DTEND;TZID=Europe/Berlin:20250816T223000
DTSTAMP:20260420T195538
CREATED:20250717T165348Z
LAST-MODIFIED:20250902T162815Z
UID:64283-1755374400-1755383400@son-baulo.de
SUMMARY:Espectaculo Tablao Flamenco
DESCRIPTION:Espectaculo Tablao Flamenco Samstag\, 16. August 2025 um 20:00 Uhr\nSilvia „La chispa“ (Baile)\, Jose Llorach (Percusión)\, Guille Sans (Cante)\, Pequi\, Oscar (Palmas) jaleos \nSensationelle Gruppe Spaniens mit Tänzerin – Emotionen pur! Besser geht´s nicht!\nProgramación/Contratación: José Miguel Llorach Asociación Cultural Flamenco en Red Balear \n20:00 Uhr Flamenco-Show € 24 \,- ● im Anschluss WOK 2-Gänge € 20 \,- \nSilvia Fernandez \nJose Llorach \njaleos \nTeile diesen Beitrag 
URL:https://son-baulo.de/veranstaltung/espectaculo-tablao-flamenco/
LOCATION:Son Bauló\, Cami de Son Bauló\, 1\, Lloret de Vistalegre\, Balearische Inseln\, 07518\, Spain
CATEGORIES:Kalender,Konzert
ATTACH;FMTTYPE=image/png:https://son-baulo.de/wp-content/uploads/2024/12/Silvia-Fernandez-24.png
ORGANIZER;CN="Will Kauffmann":MAILTO:son-baulo@son-baulo.com
END:VEVENT
END:VCALENDAR