BEGIN:VCALENDAR
VERSION:2.0
PRODID:-//Son-Bauló Kulturfinca - ECPv6.15.20//NONSGML v1.0//EN
CALSCALE:GREGORIAN
METHOD:PUBLISH
X-WR-CALNAME:Son-Bauló Kulturfinca
X-ORIGINAL-URL:https://son-baulo.de
X-WR-CALDESC:Veranstaltungen für Son-Bauló Kulturfinca
REFRESH-INTERVAL;VALUE=DURATION:PT1H
X-Robots-Tag:noindex
X-PUBLISHED-TTL:PT1H
BEGIN:VTIMEZONE
TZID:Europe/Berlin
BEGIN:DAYLIGHT
TZOFFSETFROM:+0100
TZOFFSETTO:+0200
TZNAME:CEST
DTSTART:20250330T010000
END:DAYLIGHT
BEGIN:STANDARD
TZOFFSETFROM:+0200
TZOFFSETTO:+0100
TZNAME:CET
DTSTART:20251026T010000
END:STANDARD
BEGIN:DAYLIGHT
TZOFFSETFROM:+0100
TZOFFSETTO:+0200
TZNAME:CEST
DTSTART:20260329T010000
END:DAYLIGHT
BEGIN:STANDARD
TZOFFSETFROM:+0200
TZOFFSETTO:+0100
TZNAME:CET
DTSTART:20261025T010000
END:STANDARD
BEGIN:DAYLIGHT
TZOFFSETFROM:+0100
TZOFFSETTO:+0200
TZNAME:CEST
DTSTART:20270328T010000
END:DAYLIGHT
BEGIN:STANDARD
TZOFFSETFROM:+0200
TZOFFSETTO:+0100
TZNAME:CET
DTSTART:20271031T010000
END:STANDARD
END:VTIMEZONE
BEGIN:VEVENT
DTSTART;TZID=Europe/Berlin:20260426T130000
DTEND;TZID=Europe/Berlin:20260426T143000
DTSTAMP:20260420T074803
CREATED:20260330T174701Z
LAST-MODIFIED:20260330T174701Z
UID:64764-1777208400-1777213800@son-baulo.de
SUMMARY:Konzert FUGAZ TRIO
DESCRIPTION:Konzert FUGAZ TRIO\nMatinee Sonntag\, 26.04.2026 – 13:00 Uhr (11:00 Brunch-Buffet) – FUGAZ TRIO (Flamenco/Jazz)  \nJuan Medina– guitarra flamenca | Oscar Manzano – guitarra electrica | Jose Llorach – percusion \nExzellenter Flamenco-Jazz von bedeutenden spanischen Musikern. \nJuan Medina \nGroße Namen: Juanito Makandé (Juan Medina) – Guitarra flamenca. Einer der bekanntesten Namen der aktuellen Flamenco- und Mestizo-Szene. Mit einer soliden Karriere und einer unverwechselbaren künstlerischen Identität hat er seine Musik auf Bühnen im ganzen Land präsentiert und besticht dabei durch seine Fusion aus Flamenco\, Funk und Rock sowie durch intensive Live-Auftritte\, bei denen er eine tiefe Verbindung zum Publikum herstellt. \nOscar Manzano \nÓscar Manzano. – Guitarra electrica/acustica. Ein Gitarrist mit langjähriger Live-Erfahrung\, der sich auf die Schaffung rhythmischer Klanglandschaften spezialisiert hat\, die Tradition und Moderne miteinander verbinden. Seine Vielseitigkeit und Musikalität machen ihn zu einem wichtigen Musiker in Bühnen- und Gemeinschaftsprojekten. \nJose Llorach \nJose Llorach – Percusiones. Ein Schlagzeuger\, der bereits zahlreiche hochkarätige Künstler wie Maria del Mar Bonet und viele andere begleitet hat. Neben seiner Bühnenarbeit leitet er Gesangs- und Schlagzeugworkshops\, in denen er lebendige\, gemeinschaftliche Projekte mit einer starken künstlerischen Verbindung entwickelt. \n11:00 Uhr Brunch-Buffet € 25\,00 | 13:00 Uhr Konzert € 25\,00 \nTeile diesen Beitrag 
URL:https://son-baulo.de/veranstaltung/konzert-fugaz-trio/
LOCATION:Son Bauló\, Cami de Son Bauló\, 1\, Lloret de Vistalegre\, Balearische Inseln\, 07518\, Spain
CATEGORIES:Kalender,Konzert
ATTACH;FMTTYPE=image/png:https://son-baulo.de/wp-content/uploads/2026/03/Jose-Llorach-26.png
ORGANIZER;CN="Will Kauffmann":MAILTO:son-baulo@son-baulo.com
END:VEVENT
END:VCALENDAR