BEGIN:VCALENDAR
VERSION:2.0
PRODID:-//Son-Bauló Kulturfinca - ECPv6.15.20//NONSGML v1.0//EN
CALSCALE:GREGORIAN
METHOD:PUBLISH
X-WR-CALNAME:Son-Bauló Kulturfinca
X-ORIGINAL-URL:https://son-baulo.de
X-WR-CALDESC:Veranstaltungen für Son-Bauló Kulturfinca
REFRESH-INTERVAL;VALUE=DURATION:PT1H
X-Robots-Tag:noindex
X-PUBLISHED-TTL:PT1H
BEGIN:VTIMEZONE
TZID:Europe/Berlin
BEGIN:DAYLIGHT
TZOFFSETFROM:+0100
TZOFFSETTO:+0200
TZNAME:CEST
DTSTART:20240331T010000
END:DAYLIGHT
BEGIN:STANDARD
TZOFFSETFROM:+0200
TZOFFSETTO:+0100
TZNAME:CET
DTSTART:20241027T010000
END:STANDARD
BEGIN:DAYLIGHT
TZOFFSETFROM:+0100
TZOFFSETTO:+0200
TZNAME:CEST
DTSTART:20250330T010000
END:DAYLIGHT
BEGIN:STANDARD
TZOFFSETFROM:+0200
TZOFFSETTO:+0100
TZNAME:CET
DTSTART:20251026T010000
END:STANDARD
BEGIN:DAYLIGHT
TZOFFSETFROM:+0100
TZOFFSETTO:+0200
TZNAME:CEST
DTSTART:20260329T010000
END:DAYLIGHT
BEGIN:STANDARD
TZOFFSETFROM:+0200
TZOFFSETTO:+0100
TZNAME:CET
DTSTART:20261025T010000
END:STANDARD
END:VTIMEZONE
BEGIN:VEVENT
DTSTART;TZID=Europe/Berlin:20250719T193000
DTEND;TZID=Europe/Berlin:20250719T213000
DTSTAMP:20260421T074729
CREATED:20250717T160710Z
LAST-MODIFIED:20250717T173032Z
UID:64267-1752953400-1752960600@son-baulo.de
SUMMARY:Heinz Klever
DESCRIPTION:Samstag\, 19. Juli 2025 – 19:30 Uhr Heinz Klever Politisches Kabarett II. mit Musik\nHeinz Klever\, Berlin ein echter Volltreffer. SKETCHE\, PARODIEN und MUSIK\, MUSIK\, MUSIK! „Lebendes Inventar der LEIPZIGER PFEFFERMÜHLE“ \nWARNHINWEIS: Sie können sich kranklachen. \nAls Komponist und Texter arbeitet er für die ACADEMIXER\, die FUNZEL\, das CENTRAL KABARETT\, die HERKULESKEULE\, die KIEBITZENSTEINER\, das FETTNÄPPCHEN\, die ARCHE\, die ODERHÄHNE den EULENSPIEGEL. \n19:30 Uhr Kabarett € 24\,-. Anschließend 3-Gänge-Menü € 24.- \nTeile diesen Beitrag 
URL:https://son-baulo.de/veranstaltung/heinz-klever/
LOCATION:Son Bauló\, Cami de Son Bauló\, 1\, Lloret de Vistalegre\, Balearische Inseln\, 07518\, Spain
CATEGORIES:Kalender
ATTACH;FMTTYPE=image/png:https://son-baulo.de/wp-content/uploads/2025/05/Heinz-Klever-25.png
ORGANIZER;CN="Will Kauffmann":MAILTO:son-baulo@son-baulo.com
END:VEVENT
END:VCALENDAR