BEGIN:VCALENDAR
VERSION:2.0
PRODID:-//Son-Bauló Kulturfinca - ECPv6.15.20//NONSGML v1.0//EN
CALSCALE:GREGORIAN
METHOD:PUBLISH
X-WR-CALNAME:Son-Bauló Kulturfinca
X-ORIGINAL-URL:https://son-baulo.de
X-WR-CALDESC:Veranstaltungen für Son-Bauló Kulturfinca
REFRESH-INTERVAL;VALUE=DURATION:PT1H
X-Robots-Tag:noindex
X-PUBLISHED-TTL:PT1H
BEGIN:VTIMEZONE
TZID:Europe/Berlin
BEGIN:DAYLIGHT
TZOFFSETFROM:+0100
TZOFFSETTO:+0200
TZNAME:CEST
DTSTART:20250330T010000
END:DAYLIGHT
BEGIN:STANDARD
TZOFFSETFROM:+0200
TZOFFSETTO:+0100
TZNAME:CET
DTSTART:20251026T010000
END:STANDARD
BEGIN:DAYLIGHT
TZOFFSETFROM:+0100
TZOFFSETTO:+0200
TZNAME:CEST
DTSTART:20260329T010000
END:DAYLIGHT
BEGIN:STANDARD
TZOFFSETFROM:+0200
TZOFFSETTO:+0100
TZNAME:CET
DTSTART:20261025T010000
END:STANDARD
BEGIN:DAYLIGHT
TZOFFSETFROM:+0100
TZOFFSETTO:+0200
TZNAME:CEST
DTSTART:20270328T010000
END:DAYLIGHT
BEGIN:STANDARD
TZOFFSETFROM:+0200
TZOFFSETTO:+0100
TZNAME:CET
DTSTART:20271031T010000
END:STANDARD
END:VTIMEZONE
BEGIN:VEVENT
DTSTART;TZID=Europe/Berlin:20260104T130000
DTEND;TZID=Europe/Berlin:20260104T143000
DTSTAMP:20260422T222427
CREATED:20251222T112559Z
LAST-MODIFIED:20251222T122216Z
UID:64576-1767531600-1767537000@son-baulo.de
SUMMARY:Piano Mar - Christa Elmer
DESCRIPTION:Piano Mar – Christa Elmer\nSonntag\, 04.01.2026 – 13:00 Uhr (11:00 Uhr Brunch-Buffet)  \nCHRISTA ELMER \nCHRISTA ELMER: Stimme\, Songwriter\, Piano\, Harmonizistin eine vielseitige schweizerisch-mallorquinische Künstlerin. Die leidenschaftliche Musikerin und Sängerin komponiert am Klavier und ist auf der Insel als einzige weibliche Mundharmonikaspielerin bekannt. Christa ist auch bildende Künstlerin; ihre Gemälde sind modern und mediterran inspiriert. Sie spielt in verschiedenen Bands; Rock\, Funk\, Soul\, Blues. Piano und die herausragende Jazzstimme der Insel. \nSie trat bereits zweimal bei der Ibiza Jazz Week und im Rahmen des Mallorca Jazz Festival im 2023 auf. \nJOAN PALERM \nMit PIANO MAR auf eine musikalische Reise! Eigene Titel – eigene Texte\, ruhig & stürmisch\, wie das Meer selbst … \nJOAN PALERM (Gitarre) studierte Jazz-Gitarre am Konservatorium der Balearen. Arbeitet als Lehrer und Musiker. Gründer\, Komponist und Gitarrist zweier eigener\, brillanter Projekte: Malfet (A orillas de un ideal\, 2021 und Sobre el alambre\, 2023) und das Joan Palerm Quartett. \nJUAN CRUZ \nJUAN CRUZ (Schlagzeug / Percu): Stammt aus Paraná\, Entre Ríos\, Argentinien\, Lernte früh Batucada\, Murga und Perkussion spielen\, später hauptsächlich Schlagzeug. \nJuan teilt die Bühne bei nationalen Festivals und Konzerten in weiten Teilen Argentiniens mit bedeutenden Musikern: Folklore\, Samba\, Bossa Nova\, Tango\, Rock\, Reggae/Afro\, Latino. Seit 4 Jahren Mallorca\, verschiedenen Bands. Von Jazz über Funky. \n„Mit Christa und ihrem Projekt PIANO MAR habe ich mich auf eine neue\, spannende Seereise eingelassen.“ \n11:00 Uhr Brunch-Buffet € 25\,- | 13:00 Uhr Konzert € 25\,-  Getränke sind nicht enthalten. Menüs auch vegetarisch\, bitte Avis. Kasse-Cash. Bitte immer anmelden. \nTeile diesen Beitrag 
URL:https://son-baulo.de/veranstaltung/piano-mar-christa-elmer/
LOCATION:Son Bauló\, Cami de Son Bauló\, 1\, Lloret de Vistalegre\, Balearische Inseln\, 07518\, Spain
CATEGORIES:Kalender,Konzert
ATTACH;FMTTYPE=image/png:https://son-baulo.de/wp-content/uploads/2023/05/Christa-Elmer.png
ORGANIZER;CN="Will Kauffmann":MAILTO:son-baulo@son-baulo.com
END:VEVENT
BEGIN:VEVENT
DTSTART;TZID=Europe/Berlin:20260110T190000
DTEND;TZID=Europe/Berlin:20260110T203000
DTSTAMP:20260422T222427
CREATED:20251222T115724Z
LAST-MODIFIED:20251222T124222Z
UID:64578-1768071600-1768077000@son-baulo.de
SUMMARY:Ilona Ludwig Family Affairs
DESCRIPTION:Ilona Ludwig Family Affairs\nSamstag\, 10.01.2026 – 19:00 Uhr  – The Spirit of Motown \nIlona Ludwig \nIlona Ludwig präsentiert mit ihrer ausdrucksstarken Stimme ein Programm aus Motown-Klassikern. U.A. präsentiert sie Coverversionen von Stevie Wonder\, Marvin Gaye\, The Commodores\, den Jackson Five. \nMit Ehemann Stefan Mühlhaus\, Pianist und Sohn Linus am Schlagzeug. Eine echte Familienangelegenheit! \nStefan Mühlhaus \nStefan Mühlhaus arbeitet als Pianist und Keyboarder in zahlreichen Bands\, weltweite Tourneen u.a. mit dem Goethe-Institut. Seit vielen Jahren ist er als Pianist\, Komponist und Arrangeur mitverantwortlich für die Bühnenprogramme und Album-Produktionen von Ilona Ludwig. \nLinus Mühlhaus \nLinus Mühlhaus wuchs mit Musik auf und war schon als Kind begeistert vom Geschehen in der familieneigenen Kleinkunstbühne. Er ließ sich von seinem Bruder inspirieren und widmete sich in jungen Jahren dem Schlagzeug\, das er seitdem mit viel Liebe und Enthusiasmus bearbeitet. \n19:00 Uhr Konzert € 25\,- Anschließend Menü € 25\,- \nTeile diesen Beitrag 
URL:https://son-baulo.de/veranstaltung/ilona-ludwig-family-affairs/
LOCATION:Son Bauló\, Cami de Son Bauló\, 1\, Lloret de Vistalegre\, Balearische Inseln\, 07518\, Spain
CATEGORIES:Kalender,Konzert
ORGANIZER;CN="Will Kauffmann":MAILTO:son-baulo@son-baulo.com
END:VEVENT
BEGIN:VEVENT
DTSTART;TZID=Europe/Berlin:20260115T190000
DTEND;TZID=Europe/Berlin:20260115T203000
DTSTAMP:20260422T222427
CREATED:20251222T092149Z
LAST-MODIFIED:20251222T122427Z
UID:64562-1768503600-1768509000@son-baulo.de
SUMMARY:Autoren Salon Son Bauló
DESCRIPTION:Autoren Salon Son Bauló\nDonnerstag\, 15.01.2026 – 19:00 Uhr – Autoren Salon Son Bauló  \nEin Literaturabend. Wir handeln interessante Themen; lesen\, schreiben\, diskutieren. \nHeute: Patrick Süsskind. Drei Geschichten. \nDieser Abend ist kostenlos. Gäste willkommen. 19:00 Lesung – Analyse. Anschließend Wok € 12\,00  \n  \nTeile diesen Beitrag 
URL:https://son-baulo.de/veranstaltung/autoren-salon-son-baulo-6/
LOCATION:Son Bauló\, Cami de Son Bauló\, 1\, Lloret de Vistalegre\, Balearische Inseln\, 07518\, Spain
CATEGORIES:Autoren Salon,Kalender
ATTACH;FMTTYPE=image/jpeg:https://son-baulo.de/wp-content/uploads/2018/05/cropped-Finca-Hotel-Son-Baulo.jpg
ORGANIZER;CN="Will Kauffmann":MAILTO:son-baulo@son-baulo.com
END:VEVENT
BEGIN:VEVENT
DTSTART;TZID=Europe/Berlin:20260117T160000
DTEND;TZID=Europe/Berlin:20260117T173000
DTSTAMP:20260422T222427
CREATED:20251117T113941Z
LAST-MODIFIED:20251222T094718Z
UID:64539-1768665600-1768671000@son-baulo.de
SUMMARY:Der Film RIEFENSTAHL
DESCRIPTION:Der Film RIEFENSTAHL\nFilmwerkstatt Samstag\, 17.01.2026 um 16:00 Uhr – der Film ein MUSS.  \nAnschließend PAELLA – GIG: Gemeinsam zubereiten und sehen wie´s geht. Auch vegetarisch. Inclusive Wein € 28\,00.   \n  \nTeile diesen Beitrag 
URL:https://son-baulo.de/veranstaltung/der-film-riefenstahl/
LOCATION:Son Bauló\, Cami de Son Bauló\, 1\, Lloret de Vistalegre\, Balearische Inseln\, 07518\, Spain
CATEGORIES:Kalender,Kinowerkstatt
ATTACH;FMTTYPE=image/jpeg:https://son-baulo.de/wp-content/uploads/2021/07/IMG_20190724_171350.jpg
ORGANIZER;CN="Will Kauffmann":MAILTO:son-baulo@son-baulo.com
END:VEVENT
BEGIN:VEVENT
DTSTART;TZID=Europe/Berlin:20260125T130000
DTEND;TZID=Europe/Berlin:20260125T143000
DTSTAMP:20260422T222427
CREATED:20251222T164112Z
LAST-MODIFIED:20260105T140921Z
UID:64589-1769346000-1769351400@son-baulo.de
SUMMARY:Konzert Waltraud Mucher
DESCRIPTION:Konzert Waltraud Mucher\nSonntag\, 25. Januar 2026 – 13:00 Uhr (11:00 Brunch-Buffet) Waltraud Mucher Musik-Highlights der Welt  \nWaltraud Mucher \nWaltraud Mucher Mezzosopran. Die gefragteste Stimme Mallorcas. Universität für Musik in Graz u.a. Festival Musica Mallorca\, Musikfestival in Deia\, Veladas Deia\, Castell Bellver\, Teatre Principal\, Teatre Manacor\, und alle großen Auditorien der Insel. \nLiederprogramme Klassik & Jazz mit Suzanne Bradbury\, Fr. Blanco\, Anthony Adkins\, Agustin Aguiló\, Oratorien mit den Dirigenten Carles Ponseti\, Fernando Marina\, Pablo Mielgo und Llorenc Gelabert und mit dem Trio Toni Cuenca. \n  \nRamón Farrán \nRamón Farrán – International bekannter Komponist aus Barcelona – Arrangeur\, Perkussionist\, Pianist\, Gründer des 1. Spanischen Nationalen Jazz-Orchesters in Madrid. Gründer der Konzertserie SóllerFonJazzClassic. Aktueller Wohnsitz in Sóller. \nRamón Farrán absolvierte ein höheres Musikstudium am Städtischen Musikkonservatorium von Barcelona und am „Liceu-Musikkonservatorium“. Als Schlagzeuger und Perkussionist spielte er unter anderem mit Don Byas\, Lionel Hampton\, Lorenzo González\, Frank Sinatra\, Louis Armstrong\, Miles Davis\, Chet Baker\, Shirley Bassey\, Joe Henderson\, Sonny Rollins\, Tete Montoliu\, Tubby Hayes\, Tito Puente\, Ronnie Scott\, Celia Cruz \, Eje Thelin und Lou Bennett sowie mit bekannten\, großen symphonischen Orchestern. \nAndrei Quint \nAndrei Quint (Internationaler Pianist) Pianist\, Composer\, Producer\, Musical Director bei Cologne Syndicate Musicproductions. \nEiner der ganz großen Pianisten und Musiker Mallorcas. Eine Institution mit aller höchster Wertung. Spielt und arbeitet mit den wichtigsten Künstlern der Szene: Jazz-Pop-Classic. \n13:00 Uhr Konzert € 25\,- (11:00 Brunch-Buffet) Getränke sind nicht enthalten. Menüs auch vegetarisch\, bitte Avis. Kasse-Cash. Bitte immer anmelden. \n  \nTeile diesen Beitrag 
URL:https://son-baulo.de/veranstaltung/konzert-waltraud-mucher/
LOCATION:Son Bauló\, Cami de Son Bauló\, 1\, Lloret de Vistalegre\, Balearische Inseln\, 07518\, Spain
CATEGORIES:Kalender,Konzert
ATTACH;FMTTYPE=image/png:https://son-baulo.de/wp-content/uploads/2024/12/Waltraud-Mucher-Mezzosopran.png
ORGANIZER;CN="Will Kauffmann":MAILTO:son-baulo@son-baulo.com
END:VEVENT
END:VCALENDAR