BEGIN:VCALENDAR
VERSION:2.0
PRODID:-//Son-Bauló Kulturfinca - ECPv6.15.20//NONSGML v1.0//EN
CALSCALE:GREGORIAN
METHOD:PUBLISH
X-ORIGINAL-URL:https://son-baulo.de
X-WR-CALDESC:Veranstaltungen für Son-Bauló Kulturfinca
REFRESH-INTERVAL;VALUE=DURATION:PT1H
X-Robots-Tag:noindex
X-PUBLISHED-TTL:PT1H
BEGIN:VTIMEZONE
TZID:Europe/Berlin
BEGIN:DAYLIGHT
TZOFFSETFROM:+0100
TZOFFSETTO:+0200
TZNAME:CEST
DTSTART:20240331T010000
END:DAYLIGHT
BEGIN:STANDARD
TZOFFSETFROM:+0200
TZOFFSETTO:+0100
TZNAME:CET
DTSTART:20241027T010000
END:STANDARD
BEGIN:DAYLIGHT
TZOFFSETFROM:+0100
TZOFFSETTO:+0200
TZNAME:CEST
DTSTART:20250330T010000
END:DAYLIGHT
BEGIN:STANDARD
TZOFFSETFROM:+0200
TZOFFSETTO:+0100
TZNAME:CET
DTSTART:20251026T010000
END:STANDARD
BEGIN:DAYLIGHT
TZOFFSETFROM:+0100
TZOFFSETTO:+0200
TZNAME:CEST
DTSTART:20260329T010000
END:DAYLIGHT
BEGIN:STANDARD
TZOFFSETFROM:+0200
TZOFFSETTO:+0100
TZNAME:CET
DTSTART:20261025T010000
END:STANDARD
END:VTIMEZONE
BEGIN:VEVENT
DTSTART;TZID=Europe/Berlin:20251214T130000
DTEND;TZID=Europe/Berlin:20251214T143000
DTSTAMP:20260421T063023
CREATED:20251106T142136Z
LAST-MODIFIED:20251106T142136Z
UID:64513-1765717200-1765722600@son-baulo.de
SUMMARY:Lesung Axel Thorer
DESCRIPTION:Lesung Axel Thorer\nSonntag\, 14. Dezember 2025 Matinee – 13:00 Uhr (11:00 Uhr Buffet)\nAxel Thorer – “Unverschämte Adventgeschichten oder fröhliche Weihnachten auf Mallorca”. \nWitzig\, scharfsinnig\, inselbekannter Autor. Mal sehen\, was er für Weihnachten auf der Liste stehen hat! Thorer kennt die Eigenheiten und den Charme des Lebens auf der Insel nur zu gut !!! \n11:00 Uhr Brunch-Buffet € 25\,- | 13:00 Es axelt 😊 € 25\,-  Getränke sind nicht enthalten. Menüs auch vegetarisch\, bitte Avis. Kasse-Cash. Bitte immer anmelden.  \nTeile diesen Beitrag 
URL:https://son-baulo.de/veranstaltung/lesung-axel-thorer/
LOCATION:Son Bauló\, Cami de Son Bauló\, 1\, Lloret de Vistalegre\, Balearische Inseln\, 07518\, Spain
CATEGORIES:Lesung
ATTACH;FMTTYPE=image/jpeg:https://son-baulo.de/wp-content/uploads/2024/06/Axel-Thorer_kl.jpg
ORGANIZER;CN="Will Kauffmann":MAILTO:son-baulo@son-baulo.com
END:VEVENT
END:VCALENDAR