BEGIN:VCALENDAR
VERSION:2.0
PRODID:-//Son-Bauló Kulturfinca - ECPv6.15.20//NONSGML v1.0//EN
CALSCALE:GREGORIAN
METHOD:PUBLISH
X-ORIGINAL-URL:https://son-baulo.de
X-WR-CALDESC:Veranstaltungen für Son-Bauló Kulturfinca
REFRESH-INTERVAL;VALUE=DURATION:PT1H
X-Robots-Tag:noindex
X-PUBLISHED-TTL:PT1H
BEGIN:VTIMEZONE
TZID:Europe/Berlin
BEGIN:DAYLIGHT
TZOFFSETFROM:+0100
TZOFFSETTO:+0200
TZNAME:CEST
DTSTART:20240331T010000
END:DAYLIGHT
BEGIN:STANDARD
TZOFFSETFROM:+0200
TZOFFSETTO:+0100
TZNAME:CET
DTSTART:20241027T010000
END:STANDARD
BEGIN:DAYLIGHT
TZOFFSETFROM:+0100
TZOFFSETTO:+0200
TZNAME:CEST
DTSTART:20250330T010000
END:DAYLIGHT
BEGIN:STANDARD
TZOFFSETFROM:+0200
TZOFFSETTO:+0100
TZNAME:CET
DTSTART:20251026T010000
END:STANDARD
BEGIN:DAYLIGHT
TZOFFSETFROM:+0100
TZOFFSETTO:+0200
TZNAME:CEST
DTSTART:20260329T010000
END:DAYLIGHT
BEGIN:STANDARD
TZOFFSETFROM:+0200
TZOFFSETTO:+0100
TZNAME:CET
DTSTART:20261025T010000
END:STANDARD
END:VTIMEZONE
BEGIN:VEVENT
DTSTART;TZID=Europe/Berlin:20251227T160000
DTEND;TZID=Europe/Berlin:20251227T173000
DTSTAMP:20260421T101040
CREATED:20251129T115303Z
LAST-MODIFIED:20251129T115303Z
UID:64555-1766851200-1766856600@son-baulo.de
SUMMARY:Norbert Fimpel & Dany Roth
DESCRIPTION:Norbert Fimpel & Dany Roth\nSamstag\, 27.12.2025 – 16:00 Uhr (18 Uhr WOK) Konzert Norbert Fimpel (Sax ) & Dany Roth (Gitarre / Piano). Pop\, Rock\, Soul : bekannte Welthits!!  \nNorbert Fimpel \nDanny Roth \nNorbert Fimpel (Mallorca / Südamerika): Mit der Musik- Elite auf Welt-Tournee. Mit Joe Cocker mehr als 500 Konzerte in über 30 Ländern. \nDany Roth (Mallorca / USA): exzellenter\, grooviger und kreativer Pianist und Gitarrist von hohem Niveau. \n16:00 Uhr Konzert € 25\,- | 18:00 Uhr WOK € 22\,- Getränke sind nicht enthalten. Menüs auch vegetarisch\, bitte Avis. Kasse-Cash. Bitte immer anmelden.  \nTeile diesen Beitrag 
URL:https://son-baulo.de/veranstaltung/norbert-fimpel-dany-roth/
LOCATION:Son Bauló\, Cami de Son Bauló\, 1\, Lloret de Vistalegre\, Balearische Inseln\, 07518\, Spain
CATEGORIES:Kalender,Konzert
ATTACH;FMTTYPE=image/jpeg:https://son-baulo.de/wp-content/uploads/2018/05/cropped-Finca-Hotel-Son-Baulo.jpg
ORGANIZER;CN="Will Kauffmann":MAILTO:son-baulo@son-baulo.com
END:VEVENT
END:VCALENDAR