BEGIN:VCALENDAR
VERSION:2.0
PRODID:-//Son-Bauló Kulturfinca - ECPv6.15.20//NONSGML v1.0//EN
CALSCALE:GREGORIAN
METHOD:PUBLISH
X-WR-CALNAME:Son-Bauló Kulturfinca
X-ORIGINAL-URL:https://son-baulo.de
X-WR-CALDESC:Veranstaltungen für Son-Bauló Kulturfinca
REFRESH-INTERVAL;VALUE=DURATION:PT1H
X-Robots-Tag:noindex
X-PUBLISHED-TTL:PT1H
BEGIN:VTIMEZONE
TZID:Europe/Berlin
BEGIN:DAYLIGHT
TZOFFSETFROM:+0100
TZOFFSETTO:+0200
TZNAME:CEST
DTSTART:20240331T010000
END:DAYLIGHT
BEGIN:STANDARD
TZOFFSETFROM:+0200
TZOFFSETTO:+0100
TZNAME:CET
DTSTART:20241027T010000
END:STANDARD
BEGIN:DAYLIGHT
TZOFFSETFROM:+0100
TZOFFSETTO:+0200
TZNAME:CEST
DTSTART:20250330T010000
END:DAYLIGHT
BEGIN:STANDARD
TZOFFSETFROM:+0200
TZOFFSETTO:+0100
TZNAME:CET
DTSTART:20251026T010000
END:STANDARD
BEGIN:DAYLIGHT
TZOFFSETFROM:+0100
TZOFFSETTO:+0200
TZNAME:CEST
DTSTART:20260329T010000
END:DAYLIGHT
BEGIN:STANDARD
TZOFFSETFROM:+0200
TZOFFSETTO:+0100
TZNAME:CET
DTSTART:20261025T010000
END:STANDARD
END:VTIMEZONE
BEGIN:VEVENT
DTSTART;TZID=Europe/Berlin:20251218T190000
DTEND;TZID=Europe/Berlin:20251218T203000
DTSTAMP:20260421T073802
CREATED:20251106T142600Z
LAST-MODIFIED:20251106T142600Z
UID:64515-1766084400-1766089800@son-baulo.de
SUMMARY:Autoren Salon Son Bauló
DESCRIPTION:Autoren Salon Son Bauló\nDonnerstag\, 18.12.2025 – 19:00 Uhr\nEin Literaturabend. Wir handeln interessante Themen; lesen\, schreiben\, diskutieren. \nBuchlesung Paula Levendig „Leandro – der mit Farben spricht“ \n„Leandro\, der mit Farben spricht“ erzählt die wahre Geschichte eines jungen Mannes mit Downsyndrom\, der ohne Worte\, aber mit leuchtenden Farben kommuniziert. Paula Levendig lebt auf Mallorca und schreibt Bücher voller Herz\, Licht und Fantasie. Ihre Werke verbinden Realität und Magie\, oft mit einer tiefen Botschaft über Hoffnung\, Mut und Menschlichkeit. \n19:00 Uhr Lesung. Anschließend Wok € 12\,- Dieser Abend ist kostenlos. Gäste willkommen.  \nTeile diesen Beitrag 
URL:https://son-baulo.de/veranstaltung/autoren-salon-son-baulo-5/
LOCATION:Son Bauló\, Cami de Son Bauló\, 1\, Lloret de Vistalegre\, Balearische Inseln\, 07518\, Spain
CATEGORIES:Autoren Salon
ATTACH;FMTTYPE=image/png:https://son-baulo.de/wp-content/uploads/2025/11/Paula-Levendig.png
ORGANIZER;CN="Will Kauffmann":MAILTO:son-baulo@son-baulo.com
END:VEVENT
END:VCALENDAR