BEGIN:VCALENDAR
VERSION:2.0
PRODID:-//Son-Bauló Kulturfinca - ECPv6.15.20//NONSGML v1.0//EN
CALSCALE:GREGORIAN
METHOD:PUBLISH
X-ORIGINAL-URL:https://son-baulo.de
X-WR-CALDESC:Veranstaltungen für Son-Bauló Kulturfinca
REFRESH-INTERVAL;VALUE=DURATION:PT1H
X-Robots-Tag:noindex
X-PUBLISHED-TTL:PT1H
BEGIN:VTIMEZONE
TZID:Europe/Berlin
BEGIN:DAYLIGHT
TZOFFSETFROM:+0100
TZOFFSETTO:+0200
TZNAME:CEST
DTSTART:20250330T010000
END:DAYLIGHT
BEGIN:STANDARD
TZOFFSETFROM:+0200
TZOFFSETTO:+0100
TZNAME:CET
DTSTART:20251026T010000
END:STANDARD
BEGIN:DAYLIGHT
TZOFFSETFROM:+0100
TZOFFSETTO:+0200
TZNAME:CEST
DTSTART:20260329T010000
END:DAYLIGHT
BEGIN:STANDARD
TZOFFSETFROM:+0200
TZOFFSETTO:+0100
TZNAME:CET
DTSTART:20261025T010000
END:STANDARD
BEGIN:DAYLIGHT
TZOFFSETFROM:+0100
TZOFFSETTO:+0200
TZNAME:CEST
DTSTART:20270328T010000
END:DAYLIGHT
BEGIN:STANDARD
TZOFFSETFROM:+0200
TZOFFSETTO:+0100
TZNAME:CET
DTSTART:20271031T010000
END:STANDARD
END:VTIMEZONE
BEGIN:VEVENT
DTSTART;TZID=Europe/Berlin:20260110T190000
DTEND;TZID=Europe/Berlin:20260110T203000
DTSTAMP:20260421T112753
CREATED:20251222T115724Z
LAST-MODIFIED:20251222T124222Z
UID:64578-1768071600-1768077000@son-baulo.de
SUMMARY:Ilona Ludwig Family Affairs
DESCRIPTION:Ilona Ludwig Family Affairs\nSamstag\, 10.01.2026 – 19:00 Uhr  – The Spirit of Motown \nIlona Ludwig \nIlona Ludwig präsentiert mit ihrer ausdrucksstarken Stimme ein Programm aus Motown-Klassikern. U.A. präsentiert sie Coverversionen von Stevie Wonder\, Marvin Gaye\, The Commodores\, den Jackson Five. \nMit Ehemann Stefan Mühlhaus\, Pianist und Sohn Linus am Schlagzeug. Eine echte Familienangelegenheit! \nStefan Mühlhaus \nStefan Mühlhaus arbeitet als Pianist und Keyboarder in zahlreichen Bands\, weltweite Tourneen u.a. mit dem Goethe-Institut. Seit vielen Jahren ist er als Pianist\, Komponist und Arrangeur mitverantwortlich für die Bühnenprogramme und Album-Produktionen von Ilona Ludwig. \nLinus Mühlhaus \nLinus Mühlhaus wuchs mit Musik auf und war schon als Kind begeistert vom Geschehen in der familieneigenen Kleinkunstbühne. Er ließ sich von seinem Bruder inspirieren und widmete sich in jungen Jahren dem Schlagzeug\, das er seitdem mit viel Liebe und Enthusiasmus bearbeitet. \n19:00 Uhr Konzert € 25\,- Anschließend Menü € 25\,- \nTeile diesen Beitrag 
URL:https://son-baulo.de/veranstaltung/ilona-ludwig-family-affairs/
LOCATION:Son Bauló\, Cami de Son Bauló\, 1\, Lloret de Vistalegre\, Balearische Inseln\, 07518\, Spain
CATEGORIES:Kalender,Konzert
ORGANIZER;CN="Will Kauffmann":MAILTO:son-baulo@son-baulo.com
END:VEVENT
END:VCALENDAR