BEGIN:VCALENDAR
VERSION:2.0
PRODID:-//Son-Bauló Kulturfinca - ECPv6.15.20//NONSGML v1.0//EN
CALSCALE:GREGORIAN
METHOD:PUBLISH
X-WR-CALNAME:Son-Bauló Kulturfinca
X-ORIGINAL-URL:https://son-baulo.de
X-WR-CALDESC:Veranstaltungen für Son-Bauló Kulturfinca
REFRESH-INTERVAL;VALUE=DURATION:PT1H
X-Robots-Tag:noindex
X-PUBLISHED-TTL:PT1H
BEGIN:VTIMEZONE
TZID:Europe/Berlin
BEGIN:DAYLIGHT
TZOFFSETFROM:+0100
TZOFFSETTO:+0200
TZNAME:CEST
DTSTART:20250330T010000
END:DAYLIGHT
BEGIN:STANDARD
TZOFFSETFROM:+0200
TZOFFSETTO:+0100
TZNAME:CET
DTSTART:20251026T010000
END:STANDARD
BEGIN:DAYLIGHT
TZOFFSETFROM:+0100
TZOFFSETTO:+0200
TZNAME:CEST
DTSTART:20260329T010000
END:DAYLIGHT
BEGIN:STANDARD
TZOFFSETFROM:+0200
TZOFFSETTO:+0100
TZNAME:CET
DTSTART:20261025T010000
END:STANDARD
BEGIN:DAYLIGHT
TZOFFSETFROM:+0100
TZOFFSETTO:+0200
TZNAME:CEST
DTSTART:20270328T010000
END:DAYLIGHT
BEGIN:STANDARD
TZOFFSETFROM:+0200
TZOFFSETTO:+0100
TZNAME:CET
DTSTART:20271031T010000
END:STANDARD
END:VTIMEZONE
BEGIN:VEVENT
DTSTART;TZID=Europe/Berlin:20260522T190000
DTEND;TZID=Europe/Berlin:20260522T203000
DTSTAMP:20260422T210854
CREATED:20260422T084837Z
LAST-MODIFIED:20260422T084837Z
UID:64866-1779476400-1779481800@son-baulo.de
SUMMARY:Stephan Krawczyk
DESCRIPTION:Stephan Krawczyk\nFreitag\, 22.05.2026 – 19:00 Uhr – Stephan Krawczyk – Ein Mann wie ein U-Boot  \nKünstler und ehemaliger DDR-Dissident. Zeitzeuge. Stephan Krawczyk ist Liedermacher\, Schriftsteller\, saß in der DDR im Knast. Jetzt hat er eine neue CD mit Liedern aus 40 Jahren veröffentlicht. Wir erleben wundervolle Texte und ergreifende Musik. Zwischenfragen erwünscht! \n19:00 Uhr Lesung € 25\,- incl. Freibier wie bei der Wende! Anschließend WOK € 15\,-. Bitte anmelden.  \nTeile diesen Beitrag 
URL:https://son-baulo.de/veranstaltung/stephan-krawczyk/
LOCATION:Son Bauló\, Cami de Son Bauló\, 1\, Lloret de Vistalegre\, Balearische Inseln\, 07518\, Spain
CATEGORIES:Kalender,Lesung
ATTACH;FMTTYPE=image/png:https://son-baulo.de/wp-content/uploads/2026/04/Stephan-Krawczyk-2.png
ORGANIZER;CN="Will Kauffmann":MAILTO:son-baulo@son-baulo.com
END:VEVENT
END:VCALENDAR